BEGIN:VCALENDAR
VERSION:2.0
PRODID:-//NABU Kaiserstuhl - ECPv6.15.20//NONSGML v1.0//EN
CALSCALE:GREGORIAN
METHOD:PUBLISH
X-ORIGINAL-URL:https://nabu-kaiserstuhl.de
X-WR-CALDESC:Veranstaltungen für NABU Kaiserstuhl
REFRESH-INTERVAL;VALUE=DURATION:PT1H
X-Robots-Tag:noindex
X-PUBLISHED-TTL:PT1H
BEGIN:VTIMEZONE
TZID:Europe/Berlin
BEGIN:DAYLIGHT
TZOFFSETFROM:+0100
TZOFFSETTO:+0200
TZNAME:CEST
DTSTART:20240331T010000
END:DAYLIGHT
BEGIN:STANDARD
TZOFFSETFROM:+0200
TZOFFSETTO:+0100
TZNAME:CET
DTSTART:20241027T010000
END:STANDARD
BEGIN:DAYLIGHT
TZOFFSETFROM:+0100
TZOFFSETTO:+0200
TZNAME:CEST
DTSTART:20250330T010000
END:DAYLIGHT
BEGIN:STANDARD
TZOFFSETFROM:+0200
TZOFFSETTO:+0100
TZNAME:CET
DTSTART:20251026T010000
END:STANDARD
BEGIN:DAYLIGHT
TZOFFSETFROM:+0100
TZOFFSETTO:+0200
TZNAME:CEST
DTSTART:20260329T010000
END:DAYLIGHT
BEGIN:STANDARD
TZOFFSETFROM:+0200
TZOFFSETTO:+0100
TZNAME:CET
DTSTART:20261025T010000
END:STANDARD
END:VTIMEZONE
BEGIN:VEVENT
DTSTART;TZID=Europe/Berlin:20251002T190000
DTEND;TZID=Europe/Berlin:20251002T210000
DTSTAMP:20260424T131519
CREATED:20250706T193117Z
LAST-MODIFIED:20250927T185410Z
UID:4131-1759431600-1759438800@nabu-kaiserstuhl.de
SUMMARY:NABU Treff Oktober
DESCRIPTION:Wann: Donnerstag\, 02. Oktober 2025 – ab 19:00 Uhr \nWo: Gasthof Rössle-Post\, Eichstetten. \nAlle sind willkommen. 🙂
URL:https://nabu-kaiserstuhl.de/index.php/event/nabu-treff-oktober-2/
LOCATION:Gasthaus Rössle-Post Eichstetten\, Hauptstraße 37\, 79356 Eichstetten am Kaiserstuhl\, Eichstetten am Kaiserstuhl\, 79356\, Germany
CATEGORIES:NABU-Treff
ORGANIZER;CN="NABU Kaiserstuhl":MAILTO:kontakt@nabu-kaiserstuhl.de
END:VEVENT
BEGIN:VEVENT
DTSTART;TZID=Europe/Berlin:20251018T100000
DTEND;TZID=Europe/Berlin:20251018T140000
DTSTAMP:20260424T131519
CREATED:20250823T105254Z
LAST-MODIFIED:20251003T112923Z
UID:4156-1760781600-1760796000@nabu-kaiserstuhl.de
SUMMARY:Apfelernte
DESCRIPTION:🍏 Einladung zur gemeinsamen Apfelernte beim NABU Kaiserstuhl! \nMach mit und erlebe einen Tag in der Natur: Gemeinsam ernten wir Äpfel auf unserer wunderschönen Streuobstwiese – aus denen später unser eigener\, leckerer Apfelsaft entsteht. Natürlich darfst du den frisch gepressten Saft gleich probieren! \nNach getaner Arbeit lassen wir den Tag bei einem gemütlichen Vesper in fröhlicher Runde ausklingen. Ob du alleine kommst\, mit Freunden oder Familie – jede helfende Hand ist herzlich willkommen. \n📅 Wann? \n\n\nSamstag\, 06. September \n\n\nSamstag\, 20. September \n\n\nSamstag\, 18. Oktober➡️ Jeweils ab 10 Uhr\, Dauer ca. 4 Stunden \n\n\nℹ️ Wir freuen uns über Anmeldungen\, gerne könnt ihr aber auch spontan vorbei schauen! \n📍 Wo?Streuobstwiese im Etlisbach\, zwischen Bötzingen und Eichstetten(Koordinaten: 48.08402542807268\, 7.7341309096942155) \n✉️ Kontakt:kontakt@nabu-kaiserstuhl.de
URL:https://nabu-kaiserstuhl.de/index.php/event/apfelernte-3/
LOCATION:Streuobstwiese am Etlisbach\, 3PMM+JM4 Bötzingen\, Eichstetten/Bötzingen\, BW\, 79356\, Germany
CATEGORIES:Apfelernte
ORGANIZER;CN="NABU Kaiserstuhl":MAILTO:kontakt@nabu-kaiserstuhl.de
END:VEVENT
END:VCALENDAR