BEGIN:VCALENDAR
VERSION:2.0
PRODID:-//NABU Kaiserstuhl - ECPv6.15.20//NONSGML v1.0//EN
CALSCALE:GREGORIAN
METHOD:PUBLISH
X-ORIGINAL-URL:https://nabu-kaiserstuhl.de
X-WR-CALDESC:Veranstaltungen für NABU Kaiserstuhl
REFRESH-INTERVAL;VALUE=DURATION:PT1H
X-Robots-Tag:noindex
X-PUBLISHED-TTL:PT1H
BEGIN:VTIMEZONE
TZID:Europe/Berlin
BEGIN:DAYLIGHT
TZOFFSETFROM:+0100
TZOFFSETTO:+0200
TZNAME:CEST
DTSTART:20240331T010000
END:DAYLIGHT
BEGIN:STANDARD
TZOFFSETFROM:+0200
TZOFFSETTO:+0100
TZNAME:CET
DTSTART:20241027T010000
END:STANDARD
BEGIN:DAYLIGHT
TZOFFSETFROM:+0100
TZOFFSETTO:+0200
TZNAME:CEST
DTSTART:20250330T010000
END:DAYLIGHT
BEGIN:STANDARD
TZOFFSETFROM:+0200
TZOFFSETTO:+0100
TZNAME:CET
DTSTART:20251026T010000
END:STANDARD
BEGIN:DAYLIGHT
TZOFFSETFROM:+0100
TZOFFSETTO:+0200
TZNAME:CEST
DTSTART:20260329T010000
END:DAYLIGHT
BEGIN:STANDARD
TZOFFSETFROM:+0200
TZOFFSETTO:+0100
TZNAME:CET
DTSTART:20261025T010000
END:STANDARD
END:VTIMEZONE
BEGIN:VEVENT
DTSTART;VALUE=DATE:20250613
DTEND;VALUE=DATE:20250711
DTSTAMP:20260424T172552
CREATED:20250706T190207Z
LAST-MODIFIED:20250706T190207Z
UID:4126-1749772800-1752191999@nabu-kaiserstuhl.de
SUMMARY:Alles im Fluss!? - Wasser in der Krise
DESCRIPTION:Alles im Fluss!? – Wasser in der Krise\nAusstellung in Riegel am Kaiserstuhl\n\nDie Ausstellung „Alles im Fluss“ zeigt auf eindrucksvolle Weise\, wie eng unser Leben mit den Gewässern verbunden ist und welche Herausforderungen und Chancen sich aus dem verantwortungsvollen Umgang mit dieser wertvollen Ressource ergeben. Es werden Lösungsansätze für eine nachhaltige Nutzung und den Erhalt unserer Gewässer vorgestellt. Dabei wird deutlich\, wie jede*r von uns dazu beitragen kann\, unsere natürlichen Lebensgrundlagen zu bewahren und welche dringenden Aufgaben Gesellschaft\, Politik und Kommunen dabei zu erfüllen haben. \nDas KlimaNetzwerk Riegel zeigt die Ausstellung im Bürgerhaus Riegel. \nBürgerhaus „Alte Schule“\nHauptstraße 12\n79359 Riegel am Kaiserstuhl
URL:https://nabu-kaiserstuhl.de/index.php/event/alles-im-fluss-wasser-in-der-krise/
CATEGORIES:Empfehlung
ORGANIZER;CN="Klima Netzwerk Riegel":MAILTO:klimanetzwerkriegel@gmx.de
END:VEVENT
BEGIN:VEVENT
DTSTART;TZID=Europe/Berlin:20250703T190000
DTEND;TZID=Europe/Berlin:20250703T213000
DTSTAMP:20260424T172552
CREATED:20250526T172727Z
LAST-MODIFIED:20250526T172908Z
UID:4067-1751569200-1751578200@nabu-kaiserstuhl.de
SUMMARY:NABU Treff Juli
DESCRIPTION:Wann: Donnerstag\, 03. Juli 2025 – ab 19:00 Uhr \nWo: Voraussichtlich am NABU Hisli in Eichstetten \nAlle sind willkommen. Weitere Infos folgen. 🙂
URL:https://nabu-kaiserstuhl.de/index.php/event/nabu-treff-2/
LOCATION:NABU-Häusle\, Eichstetten\, 3PXW+85M Eichstetten am Kaiserstuhl\, Eichstetten\, 79356\, Deutschland
CATEGORIES:NABU-Treff
ORGANIZER;CN="NABU Kaiserstuhl":MAILTO:kontakt@nabu-kaiserstuhl.de
END:VEVENT
BEGIN:VEVENT
DTSTART;TZID=Europe/Berlin:20250712T190000
DTEND;TZID=Europe/Berlin:20250712T220000
DTSTAMP:20260424T172552
CREATED:20250706T200015Z
LAST-MODIFIED:20250706T200015Z
UID:4134-1752346800-1752357600@nabu-kaiserstuhl.de
SUMMARY:Empehlung - Film: I am the river\, the river is me
DESCRIPTION:Der NABU Emmendingen zeigt gemeinsam mit dem Klimanetzwerk Riegel am Samstag\, den 12.7. um 19 Uhr den Kinofilm „I`m the river and the river is me“ im Maja Kino in Emmendingen. \nIn diesem wunderbaren Film nimmt uns der Maori-Flusswächter Ned Tampa mit auf eine Kanufahrt auf dem Whanganui River in Aotearoa\, Neuseeland. Der 320 km lange Fluss ist der erste weltweit\, der als juristische Person anerkannt wurde. seit über 150 Jahren kämpfen die Maori leidenschaftlich für den Schutz ihrer heiligen Lebensader und zeigen in diesem Film\, warum wir hierzulande das gleiche für unsere Flüsse tun sollten. \nEinen Trailer zu dem Film und nähere Infos findet ihr hier: https://mindjazz-pictures.de/filme/i-am-the-river-the-river-is-me/ \nTickets können im Vorfeld gekauft werden unter: http://www.maja-emmendingen.de/
URL:https://nabu-kaiserstuhl.de/index.php/event/empehlung-film-i-am-the-river-the-river-is-me/
CATEGORIES:Empfehlung
END:VEVENT
END:VCALENDAR