BEGIN:VCALENDAR
VERSION:2.0
PRODID:-//NABU Kaiserstuhl - ECPv6.15.20//NONSGML v1.0//EN
CALSCALE:GREGORIAN
METHOD:PUBLISH
X-WR-CALNAME:NABU Kaiserstuhl
X-ORIGINAL-URL:https://nabu-kaiserstuhl.de
X-WR-CALDESC:Veranstaltungen für NABU Kaiserstuhl
REFRESH-INTERVAL;VALUE=DURATION:PT1H
X-Robots-Tag:noindex
X-PUBLISHED-TTL:PT1H
BEGIN:VTIMEZONE
TZID:Europe/Berlin
BEGIN:DAYLIGHT
TZOFFSETFROM:+0100
TZOFFSETTO:+0200
TZNAME:CEST
DTSTART:20240331T010000
END:DAYLIGHT
BEGIN:STANDARD
TZOFFSETFROM:+0200
TZOFFSETTO:+0100
TZNAME:CET
DTSTART:20241027T010000
END:STANDARD
BEGIN:DAYLIGHT
TZOFFSETFROM:+0100
TZOFFSETTO:+0200
TZNAME:CEST
DTSTART:20250330T010000
END:DAYLIGHT
BEGIN:STANDARD
TZOFFSETFROM:+0200
TZOFFSETTO:+0100
TZNAME:CET
DTSTART:20251026T010000
END:STANDARD
BEGIN:DAYLIGHT
TZOFFSETFROM:+0100
TZOFFSETTO:+0200
TZNAME:CEST
DTSTART:20260329T010000
END:DAYLIGHT
BEGIN:STANDARD
TZOFFSETFROM:+0200
TZOFFSETTO:+0100
TZNAME:CET
DTSTART:20261025T010000
END:STANDARD
END:VTIMEZONE
BEGIN:VEVENT
DTSTART;TZID=Europe/Berlin:20250510T110000
DTEND;TZID=Europe/Berlin:20250510T140000
DTSTAMP:20260424T200740
CREATED:20250421T165035Z
LAST-MODIFIED:20250421T165403Z
UID:3909-1746874800-1746885600@nabu-kaiserstuhl.de
SUMMARY:Empfehlung: Pflanzenbörse vom KlimaNetzwerkRiegel
DESCRIPTION:
URL:https://nabu-kaiserstuhl.de/index.php/event/empfehlung-pflanzenboerse-vom-klimanetzwerkriegel/
LOCATION:Römerhalle\, Riegel\, Forchheimer Str. 11\, Riegel\, 79359\, Germany
CATEGORIES:Empfehlung
ORGANIZER;CN="Klima Netzwerk Riegel":MAILTO:klimanetzwerkriegel@gmx.de
END:VEVENT
END:VCALENDAR