BEGIN:VCALENDAR
VERSION:2.0
PRODID:-//NABU Kaiserstuhl - ECPv6.15.20//NONSGML v1.0//EN
CALSCALE:GREGORIAN
METHOD:PUBLISH
X-WR-CALNAME:NABU Kaiserstuhl
X-ORIGINAL-URL:https://nabu-kaiserstuhl.de
X-WR-CALDESC:Veranstaltungen für NABU Kaiserstuhl
REFRESH-INTERVAL;VALUE=DURATION:PT1H
X-Robots-Tag:noindex
X-PUBLISHED-TTL:PT1H
BEGIN:VTIMEZONE
TZID:Europe/Berlin
BEGIN:DAYLIGHT
TZOFFSETFROM:+0100
TZOFFSETTO:+0200
TZNAME:CEST
DTSTART:20240331T010000
END:DAYLIGHT
BEGIN:STANDARD
TZOFFSETFROM:+0200
TZOFFSETTO:+0100
TZNAME:CET
DTSTART:20241027T010000
END:STANDARD
BEGIN:DAYLIGHT
TZOFFSETFROM:+0100
TZOFFSETTO:+0200
TZNAME:CEST
DTSTART:20250330T010000
END:DAYLIGHT
BEGIN:STANDARD
TZOFFSETFROM:+0200
TZOFFSETTO:+0100
TZNAME:CET
DTSTART:20251026T010000
END:STANDARD
BEGIN:DAYLIGHT
TZOFFSETFROM:+0100
TZOFFSETTO:+0200
TZNAME:CEST
DTSTART:20260329T010000
END:DAYLIGHT
BEGIN:STANDARD
TZOFFSETFROM:+0200
TZOFFSETTO:+0100
TZNAME:CET
DTSTART:20261025T010000
END:STANDARD
END:VTIMEZONE
BEGIN:VEVENT
DTSTART;TZID=Europe/Berlin:20250219T193000
DTEND;TZID=Europe/Berlin:20250219T203000
DTSTAMP:20260425T005007
CREATED:20250211T174423Z
LAST-MODIFIED:20250211T174423Z
UID:3552-1739993400-1739997000@nabu-kaiserstuhl.de
SUMMARY:Empfehlung: Bildervortrag - neues vom Uhu in Eichstetten
DESCRIPTION:Ein Vortrag von Engelbert Mayer (ehem. NABU Kaiserstuhl Vorstand) für die Bürgergemeinschaft Eichstetten e.V. \nEulen sind das nachaktive Gegenstück zu den tagaktiven Greifvögeln. Die lautlosen Jäger haben sich an ihre nächtliche Lebensweise gut angepasst. Erfahren Sie bei diesem Bildervortrag von Engelbert Mayer mehr über unseren Uhu in Eichstetten aus den letzten beiden Jahren und über die anderen Eulen und Käuze am Kaiserstuhl. \nWann: Mittwoch\, 19. Februar\, 19:30 Uhr \nWo: Wilhelm-Meier-Raum\, Schwanenhof \nKosten: 5€ für Mitglieder der Bürgergemeinschaft\, 7€ für Nichtmitglieder. \n 
URL:https://nabu-kaiserstuhl.de/index.php/event/empfehlung-bildervortrag-neues-vom-uhu-in-eichstetten/
LOCATION:Wilhelm-Meier-Raum\, Schwanenhof\, Eichstetten\, Hauptstraße 32\, Eichstetten\, 79356\, Germany
CATEGORIES:Empfehlung,Vortrag
END:VEVENT
BEGIN:VEVENT
DTSTART;TZID=Europe/Berlin:20250222T093000
DTEND;TZID=Europe/Berlin:20250222T140000
DTSTAMP:20260425T005007
CREATED:20250216T151255Z
LAST-MODIFIED:20250216T152511Z
UID:3563-1740216600-1740232800@nabu-kaiserstuhl.de
SUMMARY:Arbeitseinsatz auf der Streuobstwiese
DESCRIPTION:📢 Arbeitseinsatz auf der Streuobstwiese – Wir packen an! 🌳💪 \nAm nächsten Samstag ab 9:30 Uhr freuen wir uns über helfende Hände auf unserer Streuobstwiese! Gemeinsam kümmern wir uns um wichtige Arbeiten wie das Auflösen von Schnittgut und das Freischneiden des Bachlaufs. \nNach getaner Arbeit gibt es ein wohlverdientes Vesper für alle Helfer. 🥨☕ \nKommt vorbei\, packt mit an und genießt ein paar schöne Stunden in der Natur! \nFragen? Gerne an Gerhard: g.hoefflin(at)nabu-kaiserstuhl.de
URL:https://nabu-kaiserstuhl.de/index.php/event/arbeitseinsatz-auf-der-streuobstwiese/
LOCATION:Streuobstwiese am Etlisbach\, 3PMM+JM4 Bötzingen\, Eichstetten/Bötzingen\, BW\, 79356\, Germany
CATEGORIES:Pflegeeinsatz
ORGANIZER;CN="NABU Kaiserstuhl":MAILTO:kontakt@nabu-kaiserstuhl.de
END:VEVENT
BEGIN:VEVENT
DTSTART;TZID=Europe/Berlin:20250228T190000
DTEND;TZID=Europe/Berlin:20250228T210000
DTSTAMP:20260425T005007
CREATED:20241124T103941Z
LAST-MODIFIED:20250211T174752Z
UID:3496-1740769200-1740776400@nabu-kaiserstuhl.de
SUMMARY:Baumschnittkurs am 28. Februar und 1. März 2025 -ausgebucht-
DESCRIPTION:Unter Anleitung unserer erfahrenen Experten Andreas Breisinger\, Obstbaumpfleger (LOGL) und Gerhard Höfflin erfährst du in Theorie und Praxis wie du Obstbäume richtig schneidest um deren Gesundheit und Ertrag zu fördern. \nEine ausführliche Kursbeschreibung findest du hier: Kurs Obstbaumschnittkurs 28.02 und 01.03.2025 \n  \n\n\n\nTheorieteil Freitag\, 28. Februar ab 19:00 \nOrt: Pavillon in Eichstetten\, Bahnhofstraße 1\, 79356 Eichstetten \nKosten Theorieteil: 20 € (Der Theoriekurs ist auch einzeln buchbar.) \nAnmeldung an: baumschnittkurs@nabu-kaiserstuhl.de\nAnmeldeschluss: 7. Februar 2025
URL:https://nabu-kaiserstuhl.de/index.php/event/baumschnittkurs-theorie/
LOCATION:Eichstetten\, Pavillon am Bahnhof\, Bahnhofstraße 1\, Eichstetten\, 79356\, Germany
CATEGORIES:Seminar
ORGANIZER;CN="NABU Kaiserstuhl":MAILTO:kontakt@nabu-kaiserstuhl.de
END:VEVENT
END:VCALENDAR