BEGIN:VCALENDAR
VERSION:2.0
PRODID:-//NABU Kaiserstuhl - ECPv6.15.20//NONSGML v1.0//EN
CALSCALE:GREGORIAN
METHOD:PUBLISH
X-ORIGINAL-URL:https://nabu-kaiserstuhl.de
X-WR-CALDESC:Veranstaltungen für NABU Kaiserstuhl
REFRESH-INTERVAL;VALUE=DURATION:PT1H
X-Robots-Tag:noindex
X-PUBLISHED-TTL:PT1H
BEGIN:VTIMEZONE
TZID:Europe/Berlin
BEGIN:DAYLIGHT
TZOFFSETFROM:+0100
TZOFFSETTO:+0200
TZNAME:CEST
DTSTART:20250330T010000
END:DAYLIGHT
BEGIN:STANDARD
TZOFFSETFROM:+0200
TZOFFSETTO:+0100
TZNAME:CET
DTSTART:20251026T010000
END:STANDARD
BEGIN:DAYLIGHT
TZOFFSETFROM:+0100
TZOFFSETTO:+0200
TZNAME:CEST
DTSTART:20260329T010000
END:DAYLIGHT
BEGIN:STANDARD
TZOFFSETFROM:+0200
TZOFFSETTO:+0100
TZNAME:CET
DTSTART:20261025T010000
END:STANDARD
BEGIN:DAYLIGHT
TZOFFSETFROM:+0100
TZOFFSETTO:+0200
TZNAME:CEST
DTSTART:20270328T010000
END:DAYLIGHT
BEGIN:STANDARD
TZOFFSETFROM:+0200
TZOFFSETTO:+0100
TZNAME:CET
DTSTART:20271031T010000
END:STANDARD
END:VTIMEZONE
BEGIN:VEVENT
DTSTART;VALUE=DATE:20260606
DTEND;VALUE=DATE:20260629
DTSTAMP:20260420T213511
CREATED:20250327T193120Z
LAST-MODIFIED:20251215T204031Z
UID:3767-1780704000-1782691199@nabu-kaiserstuhl.de
SUMMARY:Mähen und Heuen auf der Streuobstwiese
DESCRIPTION:🌾 Wir mähen unsere Streuobstwiese\, um den Nährstoffeintrag zu minimieren\, 🌱 Artenvielfalt zu fördern und 🌿 Heu für Reben zu gewinnen. \nTermine Juni 2026: Der genaue Termin ist wetterabhängig und wird kurz vorher bekanntgegeben. \n❓Du willst in die Signal-Gruppe oder den Newsletter aufgenommen werden? Dann melde dich bei ✉️ Fabia! Kontaktdaten findest du hier.
URL:https://nabu-kaiserstuhl.de/index.php/event/maehen-und-heuen-auf-der-streuobstwiese-2/
LOCATION:Streuobstwiese am Etlisbach\, 3PMM+JM4 Bötzingen\, Eichstetten/Bötzingen\, BW\, 79356\, Germany
CATEGORIES:Pflegeeinsatz
ORGANIZER;CN="NABU Kaiserstuhl":MAILTO:kontakt@nabu-kaiserstuhl.de
END:VEVENT
END:VCALENDAR