BEGIN:VCALENDAR
VERSION:2.0
PRODID:-//NABU Kaiserstuhl - ECPv6.15.20//NONSGML v1.0//EN
CALSCALE:GREGORIAN
METHOD:PUBLISH
X-WR-CALNAME:NABU Kaiserstuhl
X-ORIGINAL-URL:https://nabu-kaiserstuhl.de
X-WR-CALDESC:Veranstaltungen für NABU Kaiserstuhl
REFRESH-INTERVAL;VALUE=DURATION:PT1H
X-Robots-Tag:noindex
X-PUBLISHED-TTL:PT1H
BEGIN:VTIMEZONE
TZID:Europe/Berlin
BEGIN:DAYLIGHT
TZOFFSETFROM:+0100
TZOFFSETTO:+0200
TZNAME:CEST
DTSTART:20250330T010000
END:DAYLIGHT
BEGIN:STANDARD
TZOFFSETFROM:+0200
TZOFFSETTO:+0100
TZNAME:CET
DTSTART:20251026T010000
END:STANDARD
BEGIN:DAYLIGHT
TZOFFSETFROM:+0100
TZOFFSETTO:+0200
TZNAME:CEST
DTSTART:20260329T010000
END:DAYLIGHT
BEGIN:STANDARD
TZOFFSETFROM:+0200
TZOFFSETTO:+0100
TZNAME:CET
DTSTART:20261025T010000
END:STANDARD
BEGIN:DAYLIGHT
TZOFFSETFROM:+0100
TZOFFSETTO:+0200
TZNAME:CEST
DTSTART:20270328T010000
END:DAYLIGHT
BEGIN:STANDARD
TZOFFSETFROM:+0200
TZOFFSETTO:+0100
TZNAME:CET
DTSTART:20271031T010000
END:STANDARD
END:VTIMEZONE
BEGIN:VEVENT
DTSTART;VALUE=DATE:20260508
DTEND;VALUE=DATE:20260511
DTSTAMP:20260420T194110
CREATED:20250408T175109Z
LAST-MODIFIED:20251215T204022Z
UID:3779-1778198400-1778457599@nabu-kaiserstuhl.de
SUMMARY:Stunde der Gartenvögel
DESCRIPTION:Die große Vogelzählung\nViel Spaß bei der bundesweiten „Stunde der Gartenvögel“ vom 8. bis 10. Mai 2026! Wie jedes Jahr am zweiten Maiwochenende rufen der NABU und sein bayerischer Partner Landesbund für Vogel- und Naturschutz (LBV) Naturfreund*innen auf\, eine Stunde lang Vögel im Garten\, auf dem Balkon oder im Park zu zählen und zu melden. Die Teilnehmenden können darüber hinaus auch tolle Preise gewinnen. Im Mittelpunkt der Aktion stehen vertraute und weit verbreitete Vogelarten wie Meisen\, Finken\, Rotkehlchen und Spatzen. \nInformationen zur Meldung\nEs wird zur Stunde der Gartenvögel keine telefonische Melde-Hotline mehr geben.\n \nMelde deine Vogelbeobachtungen über das Online-Formular\, über die kostenlose App „Vogelwelt“ oder per Post mit dem Meldecoupon. Nähere Informationen auf der Seite „So funktioniert die Teilnahme“.
URL:https://nabu-kaiserstuhl.de/index.php/event/stunde-der-gartenvoegel/
CATEGORIES:Empfehlung
END:VEVENT
BEGIN:VEVENT
DTSTART;TZID=Europe/Berlin:20260510T100000
DTEND;TZID=Europe/Berlin:20260510T123000
DTSTAMP:20260420T194110
CREATED:20260315T163210Z
LAST-MODIFIED:20260315T163211Z
UID:4348-1778407200-1778416200@nabu-kaiserstuhl.de
SUMMARY:Frühlingsexkursion durch die Weinberge
DESCRIPTION:Frühlingsexkursion durch die Oberrotweiler Weinberge \nWann & Wo?\n📅 Sonntag\, 10. Mai 2026\n🕙 Start um 10:00 Uhr\n⏱ Dauer: ca. 2–3 Stunden \n📍 Treffpunkt:\nParkplatz an der Turn- und Festhalle Oberrotweil\n(Wilhelm-Hildenbrand-Schule\, Eisentalstraße 12) \nGemeinsam unternehmen wir einen Spaziergang durch die artenreichen Oberrotweiler Weinberge am Kaiserstuhl. Neben der besonderen Landschaft und der typischen Flora der Weinberge hoffen wir vor allem auf spannende Vogelbeobachtungen. Mit etwas Glück lassen sich Wiedehopf und Bienenfresser entdecken\, zwei charakteristische und farbenprächtige Brutvögel der Region. \n Wichtig: Die Exkursion richtet sich an Naturinteressierte jeden Alters. Festes Schuhwerk und Trittsicherheit im Gelände wird empfohlen. \nLeitung: Andreas Galli und Barbara Mutke\nKontakt: kontakt@nabu-kaiserstuhl.de \n Kosten: Teilnahme frei\, Spenden willkommen.
URL:https://nabu-kaiserstuhl.de/index.php/event/fruehlingsexkursion/
LOCATION:Turn- und Festhalle Oberrotweil\, Eisentalstraße 12\, Vogtsburg\, 79235
CATEGORIES:Exkursion
ORGANIZER;CN="NABU Kaiserstuhl":MAILTO:kontakt@nabu-kaiserstuhl.de
END:VEVENT
END:VCALENDAR