BEGIN:VCALENDAR
VERSION:2.0
PRODID:-//NABU Kaiserstuhl - ECPv6.15.20//NONSGML v1.0//EN
CALSCALE:GREGORIAN
METHOD:PUBLISH
X-WR-CALNAME:NABU Kaiserstuhl
X-ORIGINAL-URL:https://nabu-kaiserstuhl.de
X-WR-CALDESC:Veranstaltungen für NABU Kaiserstuhl
REFRESH-INTERVAL;VALUE=DURATION:PT1H
X-Robots-Tag:noindex
X-PUBLISHED-TTL:PT1H
BEGIN:VTIMEZONE
TZID:Europe/Berlin
BEGIN:DAYLIGHT
TZOFFSETFROM:+0100
TZOFFSETTO:+0200
TZNAME:CEST
DTSTART:20250330T010000
END:DAYLIGHT
BEGIN:STANDARD
TZOFFSETFROM:+0200
TZOFFSETTO:+0100
TZNAME:CET
DTSTART:20251026T010000
END:STANDARD
BEGIN:DAYLIGHT
TZOFFSETFROM:+0100
TZOFFSETTO:+0200
TZNAME:CEST
DTSTART:20260329T010000
END:DAYLIGHT
BEGIN:STANDARD
TZOFFSETFROM:+0200
TZOFFSETTO:+0100
TZNAME:CET
DTSTART:20261025T010000
END:STANDARD
BEGIN:DAYLIGHT
TZOFFSETFROM:+0100
TZOFFSETTO:+0200
TZNAME:CEST
DTSTART:20270328T010000
END:DAYLIGHT
BEGIN:STANDARD
TZOFFSETFROM:+0200
TZOFFSETTO:+0100
TZNAME:CET
DTSTART:20271031T010000
END:STANDARD
END:VTIMEZONE
BEGIN:VEVENT
DTSTART;TZID=Europe/Berlin:20260327T190000
DTEND;TZID=Europe/Berlin:20260327T210000
DTSTAMP:20260424T115657
CREATED:20260303T073451Z
LAST-MODIFIED:20260303T073542Z
UID:4341-1774638000-1774645200@nabu-kaiserstuhl.de
SUMMARY:Empfehlung: Natur im Siedlungsraum
DESCRIPTION:Eine Veranstaltung des NABU Breisach. \n  \nNABU-Artenschutzreferent Martin Klatt erklärt\, wie es um die biologische Vielfalt im Siedlungsraum bestellt ist\, welchen Beitrag naturnahes Grün leistet und was man im eigenen Garten tun kann. \nDie Teilnahmegebühr von 7 € pro Person fließt direkt in Naturschutzprojekte der NABU-Ortsgruppe in Breisach. \nTermin: Freitag\, 27. März 2026 von 19.00 – 21.00 Uhr in der Spitalkirche in Breisach (Marienau 1). \nKeine Anmeldung notwendig.
URL:https://nabu-kaiserstuhl.de/index.php/event/natur-im-siedlungsraum/
LOCATION:Spitalkirche in Breisach\, Marienau 1\, Breisach\, Germany
CATEGORIES:Empfehlung,Vortrag
ORGANIZER;CN="NABU Breisach - Westlicher Tuniberg":MAILTO:info@NABU-breisach.de
END:VEVENT
END:VCALENDAR