BEGIN:VCALENDAR
VERSION:2.0
PRODID:-//NABU Kaiserstuhl - ECPv6.15.20//NONSGML v1.0//EN
CALSCALE:GREGORIAN
METHOD:PUBLISH
X-ORIGINAL-URL:https://nabu-kaiserstuhl.de
X-WR-CALDESC:Veranstaltungen für NABU Kaiserstuhl
REFRESH-INTERVAL;VALUE=DURATION:PT1H
X-Robots-Tag:noindex
X-PUBLISHED-TTL:PT1H
BEGIN:VTIMEZONE
TZID:Europe/Berlin
BEGIN:DAYLIGHT
TZOFFSETFROM:+0100
TZOFFSETTO:+0200
TZNAME:CEST
DTSTART:20250330T010000
END:DAYLIGHT
BEGIN:STANDARD
TZOFFSETFROM:+0200
TZOFFSETTO:+0100
TZNAME:CET
DTSTART:20251026T010000
END:STANDARD
BEGIN:DAYLIGHT
TZOFFSETFROM:+0100
TZOFFSETTO:+0200
TZNAME:CEST
DTSTART:20260329T010000
END:DAYLIGHT
BEGIN:STANDARD
TZOFFSETFROM:+0200
TZOFFSETTO:+0100
TZNAME:CET
DTSTART:20261025T010000
END:STANDARD
BEGIN:DAYLIGHT
TZOFFSETFROM:+0100
TZOFFSETTO:+0200
TZNAME:CEST
DTSTART:20270328T010000
END:DAYLIGHT
BEGIN:STANDARD
TZOFFSETFROM:+0200
TZOFFSETTO:+0100
TZNAME:CET
DTSTART:20271031T010000
END:STANDARD
END:VTIMEZONE
BEGIN:VEVENT
DTSTART;TZID=Europe/Berlin:20260118T093000
DTEND;TZID=Europe/Berlin:20260118T113000
DTSTAMP:20260422T150939
CREATED:20241115T191956Z
LAST-MODIFIED:20251123T193149Z
UID:3484-1768728600-1768735800@nabu-kaiserstuhl.de
SUMMARY:Wintergäste auf dem Rhein
DESCRIPTION:Begleite uns auf eine spannende Entdeckungstour entlang des Rheins!Gemeinsam beobachten wir faszinierende Wintergäste aus dem hohen Norden\, die die kalten Monate auf unseren eisfreien Gewässern verbringen. Erfahre mehr über ihre beeindruckenden Zugrouten – und mit etwas Glück entdecken wir sogar die ein oder andere seltene Art. \n📅 Datum: 18. Januar 2026\n📍 Treffpunkt: 09:30 Uhr\, Parkplatz beim Kiosk am hinteren Rheindamm in Weisweil🕒 Dauer: ca. 2 Stunden \n👤 Leitung: Manuel Schulz\, Ornithologe\, NABU Kaiserstuhl Sprecher📧 m.schulz@nabu-kaiserstuhl.de \n🔭 Tipp: Wenn vorhanden\, bitte ein Fernglas mitbringen. \n💚 Kosten: Auf Spendenbasis
URL:https://nabu-kaiserstuhl.de/index.php/event/wintergaeste-auf-dem-rhein/
LOCATION:Hinterer Rheindamm Weisweil\, Beim Kiosk am Rhein\, Weisweil\, 79367\, Germany
CATEGORIES:Exkursion
ORGANIZER;CN="NABU Kaiserstuhl":MAILTO:kontakt@nabu-kaiserstuhl.de
END:VEVENT
END:VCALENDAR