BEGIN:VCALENDAR
VERSION:2.0
PRODID:-//NABU Kaiserstuhl - ECPv6.15.20//NONSGML v1.0//EN
CALSCALE:GREGORIAN
METHOD:PUBLISH
X-ORIGINAL-URL:https://nabu-kaiserstuhl.de
X-WR-CALDESC:Veranstaltungen für NABU Kaiserstuhl
REFRESH-INTERVAL;VALUE=DURATION:PT1H
X-Robots-Tag:noindex
X-PUBLISHED-TTL:PT1H
BEGIN:VTIMEZONE
TZID:Europe/Berlin
BEGIN:DAYLIGHT
TZOFFSETFROM:+0100
TZOFFSETTO:+0200
TZNAME:CEST
DTSTART:20240331T010000
END:DAYLIGHT
BEGIN:STANDARD
TZOFFSETFROM:+0200
TZOFFSETTO:+0100
TZNAME:CET
DTSTART:20241027T010000
END:STANDARD
BEGIN:DAYLIGHT
TZOFFSETFROM:+0100
TZOFFSETTO:+0200
TZNAME:CEST
DTSTART:20250330T010000
END:DAYLIGHT
BEGIN:STANDARD
TZOFFSETFROM:+0200
TZOFFSETTO:+0100
TZNAME:CET
DTSTART:20251026T010000
END:STANDARD
BEGIN:DAYLIGHT
TZOFFSETFROM:+0100
TZOFFSETTO:+0200
TZNAME:CEST
DTSTART:20260329T010000
END:DAYLIGHT
BEGIN:STANDARD
TZOFFSETFROM:+0200
TZOFFSETTO:+0100
TZNAME:CET
DTSTART:20261025T010000
END:STANDARD
END:VTIMEZONE
BEGIN:VEVENT
DTSTART;TZID=Europe/Berlin:20251129T100000
DTEND;TZID=Europe/Berlin:20251129T130000
DTSTAMP:20260422T194821
CREATED:20251102T101947Z
LAST-MODIFIED:20251116T114205Z
UID:4213-1764410400-1764421200@nabu-kaiserstuhl.de
SUMMARY:Bachlaufpflege auf der Streuobstwiese
DESCRIPTION:Pack mit an: Gemeinsam pflegen wir den Bachlauf auf unserer Streuobstwiese zwischen Eichstetten und Bötzingen. Mit deiner Hilfe befreien wir den Bach von unerwünschtem Bewuchs und Ablagerungen – damit Pflanzen und Tiere weiterhin ein lebendiges Zuhause finden. \nNach getaner Arbeit gibt’s Zeit für Austausch und eine kleine Stärkung in gemütlicher Runde. Ob du allein kommst oder mit Familie und Freunden – jede helfende Hand ist willkommen! \n📅 Wann?➡️ Samstag\, 29. November\, ab 10 Uhr \n📍 Wo?NABU-Streuobstwiese zwischen Eichstetten und Bötzingen \nℹ️ Keine Anmeldung erforderlich – einfach vorbeikommen und mitmachen!✉️ Kontakt: kontakt@nabu-kaiserstuhl.de \n 
URL:https://nabu-kaiserstuhl.de/index.php/event/bachlaufpflege-auf-der-streuobstwiese/
LOCATION:Streuobstwiese am Etlisbach\, 3PMM+JM4 Bötzingen\, Eichstetten/Bötzingen\, BW\, 79356\, Germany
CATEGORIES:Pflegeeinsatz
ORGANIZER;CN="NABU Kaiserstuhl":MAILTO:kontakt@nabu-kaiserstuhl.de
END:VEVENT
END:VCALENDAR