BEGIN:VCALENDAR
VERSION:2.0
PRODID:-//NABU Kaiserstuhl - ECPv6.15.20//NONSGML v1.0//EN
CALSCALE:GREGORIAN
METHOD:PUBLISH
X-ORIGINAL-URL:https://nabu-kaiserstuhl.de
X-WR-CALDESC:Veranstaltungen für NABU Kaiserstuhl
REFRESH-INTERVAL;VALUE=DURATION:PT1H
X-Robots-Tag:noindex
X-PUBLISHED-TTL:PT1H
BEGIN:VTIMEZONE
TZID:Europe/Berlin
BEGIN:DAYLIGHT
TZOFFSETFROM:+0100
TZOFFSETTO:+0200
TZNAME:CEST
DTSTART:20240331T010000
END:DAYLIGHT
BEGIN:STANDARD
TZOFFSETFROM:+0200
TZOFFSETTO:+0100
TZNAME:CET
DTSTART:20241027T010000
END:STANDARD
BEGIN:DAYLIGHT
TZOFFSETFROM:+0100
TZOFFSETTO:+0200
TZNAME:CEST
DTSTART:20250330T010000
END:DAYLIGHT
BEGIN:STANDARD
TZOFFSETFROM:+0200
TZOFFSETTO:+0100
TZNAME:CET
DTSTART:20251026T010000
END:STANDARD
BEGIN:DAYLIGHT
TZOFFSETFROM:+0100
TZOFFSETTO:+0200
TZNAME:CEST
DTSTART:20260329T010000
END:DAYLIGHT
BEGIN:STANDARD
TZOFFSETFROM:+0200
TZOFFSETTO:+0100
TZNAME:CET
DTSTART:20261025T010000
END:STANDARD
END:VTIMEZONE
BEGIN:VEVENT
DTSTART;VALUE=DATE:20251122
DTEND;VALUE=DATE:20251123
DTSTAMP:20260423T070843
CREATED:20251102T104018Z
LAST-MODIFIED:20251102T104018Z
UID:4219-1763769600-1763855999@nabu-kaiserstuhl.de
SUMMARY:Landesvertreter*innenversammlung NABU BW
DESCRIPTION:ALLE INFOS: HIER \n\nAm 22. November 2025 sind die Vertreter*innen der NABU-Gruppen und interessierte NABU-Mitglieder zur NABU-LVV eingeladen. \nHerzliche Einladung zur LVV im November \nAm Samstag\, 22. November 2025\, findet die Landesvertreter*innenversammlung (LVV) des NABU Baden-Württemberg ab 10:30 Uhr in Stuttgart im SSB-Veranstaltungszentrum auf der Waldau (Friedrich-Strobel-Weg 4-6\, 70597 Stuttgart) statt. Herzlich eingeladen sind Vertreter*innen aller NABU-Gruppen\, auch interessierte NABU-Mitglieder sind willkommen. \nAuf der vorläufigen Tagesordnung stehen folgende Punkte: \n\nBegrüßung und Formalien\nBerichte und Ausblick\, Infos zur Mitgliederwerbung\, Diskussion\nDiskussionen und Entlastung\nNABU-Schwerpunkte 2030\nVorstellung und Beschluss des Haushaltsplans 2026\nWahlen des Landesvorstandes\, der Kassenprüfer*innen und der Delegierten zur BVV 2026\nAnträge/Resolutionen\nVerschiedenes\n\nFalls Sie Fragen haben\, schreiben Sie bitte eine Mail an LVV(at)NABU-BW.de \nWir freuen uns auf Sie! \nJohannes Enssle\, Landesvorsitzender
URL:https://nabu-kaiserstuhl.de/index.php/event/landesvertreterinnenversammlung-nabu-bw/
CATEGORIES:Versammlung
END:VEVENT
END:VCALENDAR