BEGIN:VCALENDAR
VERSION:2.0
PRODID:-//NABU Kaiserstuhl - ECPv6.15.20//NONSGML v1.0//EN
CALSCALE:GREGORIAN
METHOD:PUBLISH
X-WR-CALNAME:NABU Kaiserstuhl
X-ORIGINAL-URL:https://nabu-kaiserstuhl.de
X-WR-CALDESC:Veranstaltungen für NABU Kaiserstuhl
REFRESH-INTERVAL;VALUE=DURATION:PT1H
X-Robots-Tag:noindex
X-PUBLISHED-TTL:PT1H
BEGIN:VTIMEZONE
TZID:Europe/Berlin
BEGIN:DAYLIGHT
TZOFFSETFROM:+0100
TZOFFSETTO:+0200
TZNAME:CEST
DTSTART:20240331T010000
END:DAYLIGHT
BEGIN:STANDARD
TZOFFSETFROM:+0200
TZOFFSETTO:+0100
TZNAME:CET
DTSTART:20241027T010000
END:STANDARD
BEGIN:DAYLIGHT
TZOFFSETFROM:+0100
TZOFFSETTO:+0200
TZNAME:CEST
DTSTART:20250330T010000
END:DAYLIGHT
BEGIN:STANDARD
TZOFFSETFROM:+0200
TZOFFSETTO:+0100
TZNAME:CET
DTSTART:20251026T010000
END:STANDARD
BEGIN:DAYLIGHT
TZOFFSETFROM:+0100
TZOFFSETTO:+0200
TZNAME:CEST
DTSTART:20260329T010000
END:DAYLIGHT
BEGIN:STANDARD
TZOFFSETFROM:+0200
TZOFFSETTO:+0100
TZNAME:CET
DTSTART:20261025T010000
END:STANDARD
END:VTIMEZONE
BEGIN:VEVENT
DTSTART;TZID=Europe/Berlin:20250712T190000
DTEND;TZID=Europe/Berlin:20250712T220000
DTSTAMP:20260424T184153
CREATED:20250706T200015Z
LAST-MODIFIED:20250706T200015Z
UID:4134-1752346800-1752357600@nabu-kaiserstuhl.de
SUMMARY:Empehlung - Film: I am the river\, the river is me
DESCRIPTION:Der NABU Emmendingen zeigt gemeinsam mit dem Klimanetzwerk Riegel am Samstag\, den 12.7. um 19 Uhr den Kinofilm „I`m the river and the river is me“ im Maja Kino in Emmendingen. \nIn diesem wunderbaren Film nimmt uns der Maori-Flusswächter Ned Tampa mit auf eine Kanufahrt auf dem Whanganui River in Aotearoa\, Neuseeland. Der 320 km lange Fluss ist der erste weltweit\, der als juristische Person anerkannt wurde. seit über 150 Jahren kämpfen die Maori leidenschaftlich für den Schutz ihrer heiligen Lebensader und zeigen in diesem Film\, warum wir hierzulande das gleiche für unsere Flüsse tun sollten. \nEinen Trailer zu dem Film und nähere Infos findet ihr hier: https://mindjazz-pictures.de/filme/i-am-the-river-the-river-is-me/ \nTickets können im Vorfeld gekauft werden unter: http://www.maja-emmendingen.de/
URL:https://nabu-kaiserstuhl.de/index.php/event/empehlung-film-i-am-the-river-the-river-is-me/
CATEGORIES:Empfehlung
END:VEVENT
END:VCALENDAR