BEGIN:VCALENDAR
VERSION:2.0
PRODID:-//NABU Kaiserstuhl - ECPv6.15.20//NONSGML v1.0//EN
CALSCALE:GREGORIAN
METHOD:PUBLISH
X-WR-CALNAME:NABU Kaiserstuhl
X-ORIGINAL-URL:https://nabu-kaiserstuhl.de
X-WR-CALDESC:Veranstaltungen für NABU Kaiserstuhl
REFRESH-INTERVAL;VALUE=DURATION:PT1H
X-Robots-Tag:noindex
X-PUBLISHED-TTL:PT1H
BEGIN:VTIMEZONE
TZID:Europe/Berlin
BEGIN:DAYLIGHT
TZOFFSETFROM:+0100
TZOFFSETTO:+0200
TZNAME:CEST
DTSTART:20240331T010000
END:DAYLIGHT
BEGIN:STANDARD
TZOFFSETFROM:+0200
TZOFFSETTO:+0100
TZNAME:CET
DTSTART:20241027T010000
END:STANDARD
BEGIN:DAYLIGHT
TZOFFSETFROM:+0100
TZOFFSETTO:+0200
TZNAME:CEST
DTSTART:20250330T010000
END:DAYLIGHT
BEGIN:STANDARD
TZOFFSETFROM:+0200
TZOFFSETTO:+0100
TZNAME:CET
DTSTART:20251026T010000
END:STANDARD
BEGIN:DAYLIGHT
TZOFFSETFROM:+0100
TZOFFSETTO:+0200
TZNAME:CEST
DTSTART:20260329T010000
END:DAYLIGHT
BEGIN:STANDARD
TZOFFSETFROM:+0200
TZOFFSETTO:+0100
TZNAME:CET
DTSTART:20261025T010000
END:STANDARD
END:VTIMEZONE
BEGIN:VEVENT
DTSTART;TZID=Europe/Berlin:20250427T070000
DTEND;TZID=Europe/Berlin:20250427T093000
DTSTAMP:20260424T231839
CREATED:20250416T200644Z
LAST-MODIFIED:20250422T150731Z
UID:3785-1745737200-1745746200@nabu-kaiserstuhl.de
SUMMARY:Was piept denn da? – Eine Vogelstimmen-Wanderung (über die VHS\, mit Anmeldung)
DESCRIPTION:Anmeldung: über die VHS\nWer früh am Morgen mit offenen Ohren durch die Natur geht\, erlebt ein wahres Konzert – denn bevor man Vögel sieht\, hört man sie oft schon singen. Bei dieser besonderen Exkursion möchten wir gemeinsam mit euch die heimischen Brutvögel entdecken: zuerst mit den Ohren\, dann mit dem Fernglas. \nManuel Schulz\, Sprecher des NABU Kaiserstuhl\, führt euch durch die Reblandschaft und vorbei an Streuobstwiesen. Dabei lauschen wir dem vielstimmigen Vogelgesang und versuchen\, das scheinbare „Durcheinander“ in erkennbare Einzelstimmen zu verwandeln – mit Hilfestellungen zu Melodie\, Rhythmus und einprägsamen Eselsbrücken. Und natürlich werden wir auch die ein oder andere Vogelart zu Gesicht bekommen\, die wir uns dann genauer anschauen! \nNeben Klang und Aussehen der Vögel werfen wir auch einen Blick auf ihren Lebensraum: Welche Strukturen brauchen sie\, um zu brüten\, Nahrung zu finden oder sich für eine Ruhepause zurückzuziehen? Und was macht eine Landschaft vogel- und artenreich? \nDie Wanderung ist rund 3\,5 km lang\, verläuft überwiegend auf befestigten Wegen und erfordert keine besondere Kondition. Sie ist für alle Altersgruppen geeignet – ob Familie\, Einzelperson oder Vogelfan: alle sind herzlich willkommen! \nWas ihr braucht? Neugier\, Freude an der Natur\, ein Fernglas (wenn vorhanden) und wetterangepasste Kleidung – bei leichtem Regen gerne auch einen Schirm. \n  \nWann: 27. April 2025\, 7:00 – 9:30 Uhr \nWo: Stockbrunnen\, Bötzingen (neben kath. Kirche) \nAnmeldung: über die VHS
URL:https://nabu-kaiserstuhl.de/index.php/event/was-piept-denn-da-eine-vogelstimmen-wanderung-ueber-die-vhs-mit-anmeldung/
LOCATION:Stockbrunnen\, Bötzingen\, Hauptstraße 80\, Bötzingen\, 79268\, Germany
CATEGORIES:Exkursion
END:VEVENT
END:VCALENDAR