BEGIN:VCALENDAR
VERSION:2.0
PRODID:-//NABU Kaiserstuhl - ECPv6.15.20//NONSGML v1.0//EN
CALSCALE:GREGORIAN
METHOD:PUBLISH
X-WR-CALNAME:NABU Kaiserstuhl
X-ORIGINAL-URL:https://nabu-kaiserstuhl.de
X-WR-CALDESC:Veranstaltungen für NABU Kaiserstuhl
REFRESH-INTERVAL;VALUE=DURATION:PT1H
X-Robots-Tag:noindex
X-PUBLISHED-TTL:PT1H
BEGIN:VTIMEZONE
TZID:Europe/Berlin
BEGIN:DAYLIGHT
TZOFFSETFROM:+0100
TZOFFSETTO:+0200
TZNAME:CEST
DTSTART:20240331T010000
END:DAYLIGHT
BEGIN:STANDARD
TZOFFSETFROM:+0200
TZOFFSETTO:+0100
TZNAME:CET
DTSTART:20241027T010000
END:STANDARD
BEGIN:DAYLIGHT
TZOFFSETFROM:+0100
TZOFFSETTO:+0200
TZNAME:CEST
DTSTART:20250330T010000
END:DAYLIGHT
BEGIN:STANDARD
TZOFFSETFROM:+0200
TZOFFSETTO:+0100
TZNAME:CET
DTSTART:20251026T010000
END:STANDARD
BEGIN:DAYLIGHT
TZOFFSETFROM:+0100
TZOFFSETTO:+0200
TZNAME:CEST
DTSTART:20260329T010000
END:DAYLIGHT
BEGIN:STANDARD
TZOFFSETFROM:+0200
TZOFFSETTO:+0100
TZNAME:CET
DTSTART:20261025T010000
END:STANDARD
END:VTIMEZONE
BEGIN:VEVENT
DTSTART;TZID=Europe/Berlin:20250319T190000
DTEND;TZID=Europe/Berlin:20250319T214500
DTSTAMP:20260425T005011
CREATED:20250127T175853Z
LAST-MODIFIED:20250216T154422Z
UID:3531-1742410800-1742420700@nabu-kaiserstuhl.de
SUMMARY:Empfehlung: Im Land der Wölfe
DESCRIPTION:Ein Kinofilm-Veranstaltung von der VHS Westlicher Kaiserstuhl-Tuniberg e.V. in Zusammenarbeit mit dem Kommunalen Kino Breisach e.V. \nIn Deutschland haben sie einige Gebiete zurückerobert. Aus Naturschutzsicht ist das ein immenser Erfolg. Doch nicht jeder freut sich über die Rückkehr des grauen Räubers. Daher stellt sich die Frage: Wie kann ein harmonisches Zusammenleben von Mensch und Tier gesichert werden? Und wer muss eigentlich vor wem Angst haben?Deutschland 2023\, 106 Min.\, Regie: Ralf Bücheler\, FSK ab 12 J.\n\nIm Anschluss an den Film gibt es eine Gesprächsrunde mit Vertretern der FVA und der Erzeugergemeinschaft „Schwarzwald Bio-Weiderind“ Bernau\, die von ihren Erfahrungen vor Ort berichten werden.\n\nKartenverkauf und auch Kartenreservierung unter www.kino-breisach.de.
URL:https://nabu-kaiserstuhl.de/index.php/event/empfehlung-im-land-der-woelfe/
CATEGORIES:Empfehlung
END:VEVENT
END:VCALENDAR