BEGIN:VCALENDAR
VERSION:2.0
PRODID:-//NABU Kaiserstuhl - ECPv6.15.20//NONSGML v1.0//EN
CALSCALE:GREGORIAN
METHOD:PUBLISH
X-ORIGINAL-URL:https://nabu-kaiserstuhl.de
X-WR-CALDESC:Veranstaltungen für NABU Kaiserstuhl
REFRESH-INTERVAL;VALUE=DURATION:PT1H
X-Robots-Tag:noindex
X-PUBLISHED-TTL:PT1H
BEGIN:VTIMEZONE
TZID:Europe/Berlin
BEGIN:DAYLIGHT
TZOFFSETFROM:+0100
TZOFFSETTO:+0200
TZNAME:CEST
DTSTART:20240331T010000
END:DAYLIGHT
BEGIN:STANDARD
TZOFFSETFROM:+0200
TZOFFSETTO:+0100
TZNAME:CET
DTSTART:20241027T010000
END:STANDARD
BEGIN:DAYLIGHT
TZOFFSETFROM:+0100
TZOFFSETTO:+0200
TZNAME:CEST
DTSTART:20250330T010000
END:DAYLIGHT
BEGIN:STANDARD
TZOFFSETFROM:+0200
TZOFFSETTO:+0100
TZNAME:CET
DTSTART:20251026T010000
END:STANDARD
BEGIN:DAYLIGHT
TZOFFSETFROM:+0100
TZOFFSETTO:+0200
TZNAME:CEST
DTSTART:20260329T010000
END:DAYLIGHT
BEGIN:STANDARD
TZOFFSETFROM:+0200
TZOFFSETTO:+0100
TZNAME:CET
DTSTART:20261025T010000
END:STANDARD
END:VTIMEZONE
BEGIN:VEVENT
DTSTART;TZID=Europe/Berlin:20250309T110000
DTEND;TZID=Europe/Berlin:20250309T150000
DTSTAMP:20260425T005221
CREATED:20241115T191904Z
LAST-MODIFIED:20250211T174706Z
UID:3487-1741518000-1741532400@nabu-kaiserstuhl.de
SUMMARY:Familientag mit Nisthilfenbau
DESCRIPTION:Wir laden euch zu einem erlebnisreichen Familientag am NABU Häusle in Eichstetten ein! Neben leckerem Kuchen habt ihr die Möglichkeit\, Nist- und Bauhilfen für unsere fliegenden Freunde zu bauen und euch über die Arbeit des NABU Kaiserstuhl zu informieren. Kommt vorbei und genießt einen Tag voller Informationen und Aktivitäten für Groß und Klein. \nWann & Wo: 11-15 Uhr\, NABU Häusle Eichstetten\, Ortsausgang in Richtung Bahlingen \nObolus: Materialkosten für eigene Nisthilfen \nLeitung: Fabia Spörckmann\, Wald- und Biodiversitätspädagogin – f.spoerckmann@nabu-kaiserstuhl.de
URL:https://nabu-kaiserstuhl.de/index.php/event/familientag-mit-nisthilfenbau/
LOCATION:NABU-Häusle\, Eichstetten\, 3PXW+85M Eichstetten am Kaiserstuhl\, Eichstetten\, 79356\, Deutschland
ORGANIZER;CN="NABU Kaiserstuhl":MAILTO:kontakt@nabu-kaiserstuhl.de
END:VEVENT
END:VCALENDAR