BEGIN:VCALENDAR
VERSION:2.0
PRODID:-//NABU Kaiserstuhl - ECPv6.15.20//NONSGML v1.0//EN
CALSCALE:GREGORIAN
METHOD:PUBLISH
X-WR-CALNAME:NABU Kaiserstuhl
X-ORIGINAL-URL:https://nabu-kaiserstuhl.de
X-WR-CALDESC:Veranstaltungen für NABU Kaiserstuhl
REFRESH-INTERVAL;VALUE=DURATION:PT1H
X-Robots-Tag:noindex
X-PUBLISHED-TTL:PT1H
BEGIN:VTIMEZONE
TZID:Europe/Berlin
BEGIN:DAYLIGHT
TZOFFSETFROM:+0100
TZOFFSETTO:+0200
TZNAME:CEST
DTSTART:20230326T010000
END:DAYLIGHT
BEGIN:STANDARD
TZOFFSETFROM:+0200
TZOFFSETTO:+0100
TZNAME:CET
DTSTART:20231029T010000
END:STANDARD
BEGIN:DAYLIGHT
TZOFFSETFROM:+0100
TZOFFSETTO:+0200
TZNAME:CEST
DTSTART:20240331T010000
END:DAYLIGHT
BEGIN:STANDARD
TZOFFSETFROM:+0200
TZOFFSETTO:+0100
TZNAME:CET
DTSTART:20241027T010000
END:STANDARD
BEGIN:DAYLIGHT
TZOFFSETFROM:+0100
TZOFFSETTO:+0200
TZNAME:CEST
DTSTART:20250330T010000
END:DAYLIGHT
BEGIN:STANDARD
TZOFFSETFROM:+0200
TZOFFSETTO:+0100
TZNAME:CET
DTSTART:20251026T010000
END:STANDARD
END:VTIMEZONE
BEGIN:VEVENT
DTSTART;VALUE=DATE:20240601
DTEND;VALUE=DATE:20240701
DTSTAMP:20260425T143358
CREATED:20230822T182902Z
LAST-MODIFIED:20240509T201843Z
UID:2370-1717200000-1719791999@nabu-kaiserstuhl.de
SUMMARY:Mähen und Heuen auf der Streuobstwiese
DESCRIPTION:Im Juni 2024: Mähen und Heuen auf unserer Streuobstwiese Etlisbach.\nZeitpunkt ist witterungsabhängig und wird kurzfristig auf der Webseite oder in der Helfer-Gruppe bekannt gegeben.
URL:https://nabu-kaiserstuhl.de/index.php/event/maehen-und-heuen-auf-der-streuobstwiese/
LOCATION:Streuobstwiese am Etlisbach\, 3PMM+JM4 Bötzingen\, Eichstetten/Bötzingen\, BW\, 79356\, Germany
CATEGORIES:Pflegeeinsatz
END:VEVENT
BEGIN:VEVENT
DTSTART;TZID=Europe/Berlin:20240629T160000
DTEND;TZID=Europe/Berlin:20240629T190000
DTSTAMP:20260425T143358
CREATED:20240618T134731Z
LAST-MODIFIED:20240618T134731Z
UID:3306-1719676800-1719687600@nabu-kaiserstuhl.de
SUMMARY:NABU Freiburg: Revitalisierung der Elz
DESCRIPTION:Zwischen Köndringen und Riegel wurde die Elz im Rahmen von Ausgleichsmaßnahmen der Deutschen Bahn für den Bau des 3. und 4. Gleises auf einer Gesamtlänge von ca. 3\,5 km naturnah umgestaltet. Dabei wurden teilweise auch die alten Hochwasserdämme zurück verlegt und ein neuer Gewässerlauf geschaffen\, den die Elz bei Hochwasser ständig weiter verändert. \nIn einem Kurzvortrag und bei einer anschließenden Fahrradexkursion erläutert Flussmeister Bernd Walser die nach der Umgestaltung des Gewässers eingetretenen Entwicklungen und Auswirkungen für Vegetation\, Gewässerlebewesen und die laufende Gewässerunterhaltung. \nDatum: 29.06.2024\, 16:00 – 19:00 Uhr \nOrt: Betriebshof Riegel\, Im Oberwald 13\, 79359 Riegel \nLeitung: Bernd Walser (Dipl.- Ing. FH)\, Regierungspräsidium Freiburg\, Landesbetrieb Gewässer \nDauer: ca. 3 Stunden \nAchtung: um Anmeldung unter Christine.Hercher@NABU-BW.de wird gebeten
URL:https://nabu-kaiserstuhl.de/index.php/event/nabu-freiburg-revitalisierung-der-elz/
END:VEVENT
END:VCALENDAR